BEGIN:VCALENDAR
VERSION:2.0
PRODID:-//STRO.MY Ensemble - ECPv6.0.1.1//NONSGML v1.0//EN
CALSCALE:GREGORIAN
METHOD:PUBLISH
X-WR-CALNAME:STRO.MY Ensemble
X-ORIGINAL-URL:https://stro.my
X-WR-CALDESC:Events for STRO.MY Ensemble
REFRESH-INTERVAL;VALUE=DURATION:PT1H
X-Robots-Tag:noindex
X-PUBLISHED-TTL:PT1H
BEGIN:VTIMEZONE
TZID:UTC
BEGIN:STANDARD
TZOFFSETFROM:+0000
TZOFFSETTO:+0000
TZNAME:UTC
DTSTART:20260101T000000
END:STANDARD
END:VTIMEZONE
BEGIN:VEVENT
DTSTART;TZID=UTC:20260313T200000
DTEND;TZID=UTC:20260313T210000
DTSTAMP:20260425T162326
CREATED:20260206T174307Z
LAST-MODIFIED:20260206T174307Z
UID:1419-1773432000-1773435600@stro.my
SUMMARY:Křest vinylu Moderna
DESCRIPTION:An ambient and electroacoustic album by contemporary Czech composers \nThis compilation\, released by Czech Radio Vltava\, is a unique project mapping the contemporary Czech scene of neoclassical\, modern classical\, electroacoustic\, ambient\, and film music. The new compositions were created and recorded in the legendary Studio 1 of Czech Radio\, a space with exceptional acoustics and a strong historical footprint\, which is naturally imprinted on the resulting sound; the recording was conducted under the direction of Petr Strejc. \nThe music collection presents composers who build on the long tradition of classical music\, but at the same time consciously develop it through contemporary techniques\, work with electronics\, new technologies\, and intergenre crossovers. The compilation captures the diversity of individual approaches and the common search for new forms of expression\, confirming that Czech contemporary music is a lively\, open\, and confident environment capable of appealing to audiences across generations and contexts. \nThe compilation features the following composers: \nBeata Hlavenková\nChalupski\nMikoláš Růžička\nMikuláš Tichý\nJiří Trtík\nKarel Havlíček\nMartina Vídenová\nFloex Ensemble
URL:https://stro.my/event/moderna-2026/
LOCATION:Atrium Žižkov
END:VEVENT
END:VCALENDAR