BEGIN:VCALENDAR
VERSION:2.0
PRODID:-//STRO.MY Ensemble - ECPv6.0.1.1//NONSGML v1.0//EN
CALSCALE:GREGORIAN
METHOD:PUBLISH
X-WR-CALNAME:STRO.MY Ensemble
X-ORIGINAL-URL:https://stro.my
X-WR-CALDESC:Events for STRO.MY Ensemble
REFRESH-INTERVAL;VALUE=DURATION:PT1H
X-Robots-Tag:noindex
X-PUBLISHED-TTL:PT1H
BEGIN:VTIMEZONE
TZID:UTC
BEGIN:STANDARD
TZOFFSETFROM:+0000
TZOFFSETTO:+0000
TZNAME:UTC
DTSTART:20220101T000000
END:STANDARD
END:VTIMEZONE
BEGIN:VEVENT
DTSTART;TZID=UTC:20220924T140000
DTEND;TZID=UTC:20220924T150000
DTSTAMP:20260426T035257
CREATED:20240120T170120Z
LAST-MODIFIED:20240120T170120Z
UID:643-1664028000-1664031600@stro.my
SUMMARY:SHOWCASE 2022
DESCRIPTION:Je nám velkou ctí\, že můžeme s naším STRO.MY Ensemble zahrát na letošním ročníku Showcase v rámci festivalu Dvořákova Praha! Velké díky Radek Baborák za tuto iniciativu a příležitosti mladým hudebníkům a skladatelům.\nJiž zítra od 14:30 na HAMU v Sále Martinů.\nNa programu budou dvě mé skladby:\nMůj Ježíši pro sbor a varhany (zhudebněná motlitba P. Josefa Toufara)\nKoncert pro les pro basklarinet s doprovodem ansámblu a smíšeného sboru\nSolo basklarinet Anna Paulová\nPřijďte\, moc rád vás uvidíme!
URL:https://stro.my/event/showcase-2022/
LOCATION:HAMU\, Prague
END:VEVENT
BEGIN:VEVENT
DTSTART;TZID=UTC:20220709T200000
DTEND;TZID=UTC:20220709T220000
DTSTAMP:20260426T035257
CREATED:20221004T095618Z
LAST-MODIFIED:20240120T165302Z
UID:286-1657396800-1657404000@stro.my
SUMMARY:Concert For Forest - Premiere vol. 2
DESCRIPTION:The newly formed Ensemble STRO.MY will give a voice to a forest.\nThe premiere of the Concert For Forest will take place in an untraditional\nenvironment of a cut-down forest. \nA unique musical experience in which\nthe audience can take a break for a moment and\, accompanied\nby tones of music and the sounds of the forest\, reflect on our current\nrelationship with nature.
URL:https://stro.my/event/premiere-vol-2/
END:VEVENT
BEGIN:VEVENT
DTSTART;TZID=UTC:20220708T200000
DTEND;TZID=UTC:20220708T220000
DTSTAMP:20260426T035257
CREATED:20221004T092808Z
LAST-MODIFIED:20240120T165327Z
UID:282-1657310400-1657317600@stro.my
SUMMARY:Concert For Forest: Premiere
DESCRIPTION:The newly formed Ensemble STRO.MY will give a voice to a forest.\nThe premiere of the Concert For Forest will take place in an untraditional\nenvironment of a cut-down forest. \nA unique musical experience in which\nthe audience can take a break for a moment and\, accompanied\nby tones of music and the sounds of the forest\, reflect on our current\nrelationship with nature.
URL:https://stro.my/event/premiere/
END:VEVENT
END:VCALENDAR