BEGIN:VCALENDAR
VERSION:2.0
PRODID:-//STRO.MY Ensemble - ECPv6.0.1.1//NONSGML v1.0//EN
CALSCALE:GREGORIAN
METHOD:PUBLISH
X-WR-CALNAME:STRO.MY Ensemble
X-ORIGINAL-URL:https://stro.my
X-WR-CALDESC:Events for STRO.MY Ensemble
REFRESH-INTERVAL;VALUE=DURATION:PT1H
X-Robots-Tag:noindex
X-PUBLISHED-TTL:PT1H
BEGIN:VTIMEZONE
TZID:UTC
BEGIN:STANDARD
TZOFFSETFROM:+0000
TZOFFSETTO:+0000
TZNAME:UTC
DTSTART:20260101T000000
END:STANDARD
END:VTIMEZONE
BEGIN:VEVENT
DTSTART;TZID=UTC:20260515T200000
DTEND;TZID=UTC:20260515T210000
DTSTAMP:20260425T134133
CREATED:20260205T074017Z
LAST-MODIFIED:20260205T074040Z
UID:1411-1778875200-1778878800@stro.my
SUMMARY:PULSE Gala (Ostrava 2025)
DESCRIPTION:
URL:https://stro.my/event/pulse-gala-ostrava-2025-2/
LOCATION:Multifunctional hall GONG
END:VEVENT
END:VCALENDAR