BEGIN:VCALENDAR
VERSION:2.0
PRODID:-//STRO.MY Ensemble - ECPv6.0.1.1//NONSGML v1.0//EN
CALSCALE:GREGORIAN
METHOD:PUBLISH
X-ORIGINAL-URL:https://stro.my
X-WR-CALDESC:Events for STRO.MY Ensemble
REFRESH-INTERVAL;VALUE=DURATION:PT1H
X-Robots-Tag:noindex
X-PUBLISHED-TTL:PT1H
BEGIN:VTIMEZONE
TZID:UTC
BEGIN:STANDARD
TZOFFSETFROM:+0000
TZOFFSETTO:+0000
TZNAME:UTC
DTSTART:20250101T000000
END:STANDARD
END:VTIMEZONE
BEGIN:VEVENT
DTSTART;TZID=UTC:20251206T180000
DTEND;TZID=UTC:20251206T190000
DTSTAMP:20260425T215115
CREATED:20251203T082135Z
LAST-MODIFIED:20251203T082147Z
UID:1376-1765044000-1765047600@stro.my
SUMMARY:STRO.MY Ensemble: Audiovizuální koncert pro Prahu
DESCRIPTION:Otevíráme hlavní budovu Muzea Prahy. A bude to velké!\nV rámci koncertu proběhne interaktivní hudební workshop pro děti a zazní moderní úpavy lidových písní s pražskou tematikou\, či autorské zpracování Smetanovy Vltavy.
URL:https://stro.my/event/stro-my-ensemble-audiovizualni-koncert-pro-prahu-2/
LOCATION:Muzeum Prahy
END:VEVENT
END:VCALENDAR