BEGIN:VCALENDAR
VERSION:2.0
PRODID:-//STRO.MY Ensemble - ECPv6.0.1.1//NONSGML v1.0//EN
CALSCALE:GREGORIAN
METHOD:PUBLISH
X-ORIGINAL-URL:https://stro.my
X-WR-CALDESC:Events for STRO.MY Ensemble
REFRESH-INTERVAL;VALUE=DURATION:PT1H
X-Robots-Tag:noindex
X-PUBLISHED-TTL:PT1H
BEGIN:VTIMEZONE
TZID:UTC
BEGIN:STANDARD
TZOFFSETFROM:+0000
TZOFFSETTO:+0000
TZNAME:UTC
DTSTART:20250101T000000
END:STANDARD
END:VTIMEZONE
BEGIN:VEVENT
DTSTART;TZID=UTC:20251127T190000
DTEND;TZID=UTC:20251127T210000
DTSTAMP:20260425T231043
CREATED:20250903T055707Z
LAST-MODIFIED:20250917T071915Z
UID:1346-1764270000-1764277200@stro.my
SUMMARY:TP - KAREL HAVLÍČEK\, CZIRKIDZ A STRO.MY ENSEMBLE
DESCRIPTION:The 44th annual Trutnov Autumn international music festival is organized by UFFO under the auspices of the city of Trutnov. \nThe project is implemented with the financial support of the Hradec Králové Region. \nThe festival is held with the financial support of the following partners:\nAUTOSTYLE as\nEcological development and construction Ltd\nCommercial Bank\, Inc. \nA multi-genre project. \nProgram: K. Havlíček and his compositions from the albums Spoken and It’s never late to see the light \nPatron of the concert: Ecological development and construction Ltd \nThursday 27. 11. ** UFFO ** 19:00 ** admission 490 CZK ** advance ticket sale from 1. 9.
URL:https://stro.my/event/tp-karel-havlicek-czirkidz-a-hoste/
LOCATION:UFFO Trutnov
END:VEVENT
END:VCALENDAR