BEGIN:VCALENDAR
VERSION:2.0
PRODID:-//STRO.MY Ensemble - ECPv6.0.1.1//NONSGML v1.0//EN
CALSCALE:GREGORIAN
METHOD:PUBLISH
X-ORIGINAL-URL:https://stro.my
X-WR-CALDESC:Events for STRO.MY Ensemble
REFRESH-INTERVAL;VALUE=DURATION:PT1H
X-Robots-Tag:noindex
X-PUBLISHED-TTL:PT1H
BEGIN:VTIMEZONE
TZID:UTC
BEGIN:STANDARD
TZOFFSETFROM:+0000
TZOFFSETTO:+0000
TZNAME:UTC
DTSTART:20250101T000000
END:STANDARD
END:VTIMEZONE
BEGIN:VEVENT
DTSTART;TZID=UTC:20251018T190000
DTEND;TZID=UTC:20251018T210000
DTSTAMP:20260426T003306
CREATED:20250903T054729Z
LAST-MODIFIED:20250903T054729Z
UID:1342-1760814000-1760821200@stro.my
SUMMARY:Národní divadlo moravskoslezské - PODOBA VĚCÍ - premiéra
DESCRIPTION:„Otevřete kterejkoliv módní časopis\, zapněte kterejkoliv televizní program a všichni vám řeknou… je teď atraktivnější\, normálnější. Jedním slovem\, lepší. Je živoucím příkladem naší posedlosti povrchem věcí\, jejich podobou.“ \nKolik jsme ochotni obětovat pro lásku? A kde končí osobní proměna a začíná manipulace? Neil LaBute v této provokativní hře rozkrývá tenké hranice mezi uměním\, etikou a lidskou identitou. Student Adam se pod vlivem charismatické Evelyn postupně mění v lepšího člověka. Ve společnosti je důležité zapadnout\, dobře se prezentovat\, a tak Adam pracuje na odstranění svých zlozvyků a nedokonalých stránek. Přestane si okusovat nehty\, vyhodí starý kabát\, který dosud považoval za výraz své osobní individuality\, ale vypadal v něm jako dřevorubec. Hubne\, posiluje. Objektivně se stává atraktivnějším mužem. Jak vysoká je cena této proměny? Strhující psychologická studie o moci a zradě v partnerských vztazích\, která klade nelehké otázky o podstatě mezilidských vazeb. \nPřeklad: Petra Hanáková\nRežie: Josef Doležal\nDramaturgie: Pavel Gejguš\nScéna: Pavla Kamanová\nKostýmy: Pavla Kamanová\nHudba: Jiří Trtík\nInspicient: Věra Kryšková\nText sleduje: Jana Hořínová
URL:https://stro.my/event/narodni-divadlo-moravskoslezske-podoba-veci-premiera/
LOCATION:Národní divadlo moravskoslezské
END:VEVENT
END:VCALENDAR