BEGIN:VCALENDAR
VERSION:2.0
PRODID:-//STRO.MY Ensemble - ECPv6.0.1.1//NONSGML v1.0//EN
CALSCALE:GREGORIAN
METHOD:PUBLISH
X-ORIGINAL-URL:https://stro.my
X-WR-CALDESC:Events for STRO.MY Ensemble
REFRESH-INTERVAL;VALUE=DURATION:PT1H
X-Robots-Tag:noindex
X-PUBLISHED-TTL:PT1H
BEGIN:VTIMEZONE
TZID:UTC
BEGIN:STANDARD
TZOFFSETFROM:+0000
TZOFFSETTO:+0000
TZNAME:UTC
DTSTART:20250101T000000
END:STANDARD
END:VTIMEZONE
BEGIN:VEVENT
DTSTART;TZID=UTC:20250906T190000
DTEND;TZID=UTC:20250906T210000
DTSTAMP:20260426T015827
CREATED:20250903T053011Z
LAST-MODIFIED:20250903T053011Z
UID:1333-1757185200-1757192400@stro.my
SUMMARY:Komponovaný večer na Tvrzi
DESCRIPTION:Z kopců se valí mlhy a z klavíru tóny. Kulturní komise města Odolena Voda srdečně zve na komponovaný večer\, kde při příležitosti křtu knihy Slepé cesty své skladby zahraje skladatel Jiří Trtík.\nSlepé cesty jsou čtvrtým mysteriózním románem spisovatelky Kateřiny Surmanové\, která v Odoleně Vodě žije a celý děj sem zasadila. Role kmotra se ujme knižní influencer a spisovatel Oldřich Suchý.\nAkce se koná na Tvrzi v sobotu 6. září od 19.00\, za každého počasí.
URL:https://stro.my/event/komponovany-vecer-na-tvrzi/
LOCATION:Odolena Voda
END:VEVENT
END:VCALENDAR