BEGIN:VCALENDAR
VERSION:2.0
PRODID:-//STRO.MY Ensemble - ECPv6.0.1.1//NONSGML v1.0//EN
CALSCALE:GREGORIAN
METHOD:PUBLISH
X-WR-CALNAME:STRO.MY Ensemble
X-ORIGINAL-URL:https://stro.my/cs
X-WR-CALDESC:Events for STRO.MY Ensemble
REFRESH-INTERVAL;VALUE=DURATION:PT1H
X-Robots-Tag:noindex
X-PUBLISHED-TTL:PT1H
BEGIN:VTIMEZONE
TZID:UTC
BEGIN:STANDARD
TZOFFSETFROM:+0000
TZOFFSETTO:+0000
TZNAME:UTC
DTSTART:20250101T000000
END:STANDARD
END:VTIMEZONE
BEGIN:VEVENT
DTSTART;TZID=UTC:20251105T183000
DTEND;TZID=UTC:20251105T203000
DTSTAMP:20260426T004345
CREATED:20250917T071829Z
LAST-MODIFIED:20250917T071829Z
UID:1355-1762367400-1762374600@stro.my
SUMMARY:Music for piano & synths: Jiří Trtík
DESCRIPTION:Music for piano & synths \n18:30 – Pierre Urban\, ambient session\, DJ set\n19:30 – Jiří Trtík – akustický klavír a syntetizátory \nTermín: středa 5.11. 2025 \nVečer je pořádaný ve spolupráci s platformou Calmake. \nPřijďte se zaposlouchat do zvuků akustického klavíru a ambientní elektronické hudby. Nové skladby Jiřího Trtíka pro netradiční obsazení klavír a inovativní syntezátory odráží dialog křehkosti lidského světa a odosobněnosti\, mohutnosti digitálního světa. Skladby spojují tradiční formy klasické hudby s novými zvuky a barvami hudebních nástrojů 21. století. \nNa programu se objeví také starší kompozice\, které jsou inspirovány přírodou či duševním zdravím (klavírní transkripce z opery Kafkův dopis otci\, nebo Vibrafonového koncertu “Grotte”). \n– \nJiří Trtík je český skladatel\, dirigent a pedagog. V roce 2021 obdržel cenu OSA jako nejúspěšnější český skladatel klasické hudby mimo Českou republiku. Spolupracoval s mnoha renomovanými hudebníky a soubory\, například s členy Metropolitní opery v New Yorku a Cleveland Orchestra. Jeho díla byla uvedena v České republice\, na Slovensku\, v Německu\, Lotyšsku\, USA a Japonsku. Složil hudbu k několika filmům\, včetně Vlci na hranicích. Získal ocenění na mezinárodních soutěžích a cenu Donald Erb Prize v roce 2018. Vystudoval na Cleveland Institute of Music\, Pražské konzervatoři a Univerzitě Karlově. Od roku 2020 vyučuje na Mezinárodní konzervatoři v Praze. V roce 2024 složil hudbu pro operu Národního divadla v Praze s názvem Kafkův dopis otci\, kde vystupuje společně se svým orchestrem Stro.My Ensemble. Společně odjeli také evropské turné k programu Smetana: ambasador české hudby v rámci oslav Rok české hudby. Dlouhodobě také spolupracuje se skladatelem Karlem Havlíčkem. Program Music for piano & synths premiéroval letos v březnu v Českém centru Bukurešť\, kde byl na rezidenci.
URL:https://stro.my/cs/event/music-for-piano-synths-jiri-trtik/
LOCATION:Volmanova vila
END:VEVENT
END:VCALENDAR