BEGIN:VCALENDAR
VERSION:2.0
PRODID:-//STRO.MY Ensemble - ECPv6.0.1.1//NONSGML v1.0//EN
CALSCALE:GREGORIAN
METHOD:PUBLISH
X-WR-CALNAME:STRO.MY Ensemble
X-ORIGINAL-URL:https://stro.my/cs
X-WR-CALDESC:Events for STRO.MY Ensemble
REFRESH-INTERVAL;VALUE=DURATION:PT1H
X-Robots-Tag:noindex
X-PUBLISHED-TTL:PT1H
BEGIN:VTIMEZONE
TZID:UTC
BEGIN:STANDARD
TZOFFSETFROM:+0000
TZOFFSETTO:+0000
TZNAME:UTC
DTSTART:20250101T000000
END:STANDARD
END:VTIMEZONE
BEGIN:VEVENT
DTSTART;TZID=UTC:20250916T190000
DTEND;TZID=UTC:20250916T200000
DTSTAMP:20260426T031243
CREATED:20250917T071311Z
LAST-MODIFIED:20250917T071311Z
UID:1353-1758049200-1758052800@stro.my
SUMMARY:V.O.R. – Vltava\, Odkaz\, Reflexe
DESCRIPTION:Vltava vypráví. Přijďte se podívat. Přijďte naslouchat. \nUž 16. 9. od 19.00 hod. se můžete těšit na první rozsvícení. Na vernisáži se můžete těšit na hudební vystoupení Jiřího Trtíka a STRO.MY Ensemble. Podskalská celnice na Výtoni bude 16. 9. zdarma otevřena od 18.00–21.00 hod. \nOd 17. 9. do 30. 9. se na hladině Vltavy rozzáří audiovizuální dílo\, které odhalí krásu i historický význam této řeky. Společně s kolektivem Lunchmeat přinášíme světelnou instalaci ve tvaru voru – plavidla\, které po staletí brázdilo proudy Vltavy a přiváželo dřevo\, zboží i lidské osudy. VOR je poctou řece i těm\, pro koho bývala domovem. Pomocí moderních technologií ožívá v rytmu slavné skladby Vltava od Bedřicha Smetany. A zároveň připomíná tisícileté řemeslo vorařství\, které se v roce 2022 dostalo na seznam UNESCO. \nVíte třeba\, že při stavbě vorů se dřevo původně vázalo jen pomocí houžví? Bez jediného drátu?\nŽe Výtoň dostala jméno podle vybírání cla ve formě kusů dřeva\, které se někdy vyňalo přímo z vorů?\nA že poslední vorový pramen proplul Vltavou v roce 1960?\nInstalace propojuje minulost s přítomností. Tradiční voroplavbu s audiovizuálním uměním. Přírodní sílu s lidským umem. \nLetos je VOR součástí projektu Vltava slavná & splavná. Vrcholem je Vltavská štafeta\, která přiváží vodu z pramene řeky až do Prahy. Její závěrečnou část urazí symbolicky vor z jedné tabule smrkových klád\, svázaný tradiční technikou. \nZa stavbou voru stojí spolek Vltavan Praha\, nejstarší dochovaný profesní spolek lidí od vody. Vznikl už v roce 1871 a sídlí v Podskalské celnici na Výtoni\, kde dnes najdete i expozici Zaniklé Podskalí a život na Vltavě. \nPřijďte si vychutnat fascinující příběh plavců\, vrátných a jejich řeky. V obrazech. Ve zvucích. Ve světlech. \nTěšíme se na vás!
URL:https://stro.my/cs/event/v-o-r-vltava-odkaz-reflexe/
END:VEVENT
END:VCALENDAR